BEGIN:VCALENDAR
VERSION:2.0
PRODID:-//Benovia Winery - ECPv6.15.20//NONSGML v1.0//EN
CALSCALE:GREGORIAN
METHOD:PUBLISH
X-WR-CALNAME:Benovia Winery
X-ORIGINAL-URL:https://benoviawinery.com
X-WR-CALDESC:Events for Benovia Winery
REFRESH-INTERVAL;VALUE=DURATION:PT1H
X-Robots-Tag:noindex
X-PUBLISHED-TTL:PT1H
BEGIN:VTIMEZONE
TZID:America/Los_Angeles
BEGIN:DAYLIGHT
TZOFFSETFROM:-0800
TZOFFSETTO:-0700
TZNAME:PDT
DTSTART:20240310T100000
END:DAYLIGHT
BEGIN:STANDARD
TZOFFSETFROM:-0700
TZOFFSETTO:-0800
TZNAME:PST
DTSTART:20241103T090000
END:STANDARD
BEGIN:DAYLIGHT
TZOFFSETFROM:-0800
TZOFFSETTO:-0700
TZNAME:PDT
DTSTART:20250309T100000
END:DAYLIGHT
BEGIN:STANDARD
TZOFFSETFROM:-0700
TZOFFSETTO:-0800
TZNAME:PST
DTSTART:20251102T090000
END:STANDARD
BEGIN:DAYLIGHT
TZOFFSETFROM:-0800
TZOFFSETTO:-0700
TZNAME:PDT
DTSTART:20260308T100000
END:DAYLIGHT
BEGIN:STANDARD
TZOFFSETFROM:-0700
TZOFFSETTO:-0800
TZNAME:PST
DTSTART:20261101T090000
END:STANDARD
END:VTIMEZONE
BEGIN:VTIMEZONE
TZID:America/Chicago
BEGIN:DAYLIGHT
TZOFFSETFROM:-0600
TZOFFSETTO:-0500
TZNAME:CDT
DTSTART:20240310T080000
END:DAYLIGHT
BEGIN:STANDARD
TZOFFSETFROM:-0500
TZOFFSETTO:-0600
TZNAME:CST
DTSTART:20241103T070000
END:STANDARD
BEGIN:DAYLIGHT
TZOFFSETFROM:-0600
TZOFFSETTO:-0500
TZNAME:CDT
DTSTART:20250309T080000
END:DAYLIGHT
BEGIN:STANDARD
TZOFFSETFROM:-0500
TZOFFSETTO:-0600
TZNAME:CST
DTSTART:20251102T070000
END:STANDARD
BEGIN:DAYLIGHT
TZOFFSETFROM:-0600
TZOFFSETTO:-0500
TZNAME:CDT
DTSTART:20260308T080000
END:DAYLIGHT
BEGIN:STANDARD
TZOFFSETFROM:-0500
TZOFFSETTO:-0600
TZNAME:CST
DTSTART:20261101T070000
END:STANDARD
END:VTIMEZONE
BEGIN:VEVENT
DTSTART;TZID=America/Los_Angeles:20250406T130000
DTEND;TZID=America/Los_Angeles:20250406T160000
DTSTAMP:20260424T030044
CREATED:20250219T214248Z
LAST-MODIFIED:20250219T214248Z
UID:10159-1743944400-1743955200@benoviawinery.com
SUMMARY:Phoenix Spring Open House 2025
DESCRIPTION:Join the Benovia Winery team to celebrate another beautiful Spring season and taste our newest releases expertly paired with delicious light dishes from Sierra Bonita Catering. Sip alongside Owner and Co-founder Joe Anderson as you discover your favorite spring release wines. \nFor any questions or assistance in purchasing tickets\, please contact Megan:\nMegan@benovia.com or call (707) 921-1040 \nWe can’t wait to host you!
URL:https://benoviawinery.com/event/phoenix-spring-open-house-2025/
LOCATION:Phoenix\, AZ
CATEGORIES:Open House,Release
ATTACH;FMTTYPE=image/jpeg:https://benoviawinery.com/wp-content/uploads/2025/02/Phoenix-cityscape_b2b0b89039603b931027eb2900b66531.jpg
ORGANIZER;CN="Benovia Winery":MAILTO:events@benovia.com
END:VEVENT
BEGIN:VEVENT
DTSTART;TZID=America/Los_Angeles:20250422T173000
DTEND;TZID=America/Los_Angeles:20250422T193000
DTSTAMP:20260424T030044
CREATED:20250305T191625Z
LAST-MODIFIED:20250305T191625Z
UID:10173-1745343000-1745350200@benoviawinery.com
SUMMARY:Austin Spring Open House 2025
DESCRIPTION:We look forward to returning to Austin for a delightful evening of fine wines & hors d’oeuvres\, presented by Benovia Winery Founder Joe Anderson\, Tasting Room Manager Megan Koolmees\, Wine Educator Roger Carrillo and Associate Winemaker Adolfo Hernandez! If you have any questions regarding this event please contact our Tasting Room and Events Manager Megan at megan@benovia.com or 707-921-1040 .
URL:https://benoviawinery.com/event/austin-spring-open-house-2025/
LOCATION:Austin Texas
CATEGORIES:Open House
ATTACH;FMTTYPE=image/jpeg:https://benoviawinery.com/wp-content/uploads/2025/03/Austin-Pic.jpg
ORGANIZER;CN="Benovia Winery":MAILTO:events@benovia.com
END:VEVENT
BEGIN:VEVENT
DTSTART;TZID=America/Los_Angeles:20250424T163000
DTEND;TZID=America/Los_Angeles:20250424T190000
DTSTAMP:20260424T030044
CREATED:20250219T215027Z
LAST-MODIFIED:20250219T215027Z
UID:10161-1745512200-1745521200@benoviawinery.com
SUMMARY:April Happy Hour
DESCRIPTION:Relax and unwind at our monthly Happy Hour! Choose from a selection of wines by the glass\, and enjoy complimentary lite bites. Cheers to a perfect pairing!\nApril 24th 4:30-7pm\nRSVP to wineryvisits@benovia.com suggested but not required.\nWe look forward to hosting you after work on the 24th!
URL:https://benoviawinery.com/event/april-happy-hour-3/
LOCATION:Benovia Winery\, CA
CATEGORIES:Happy Hour
ATTACH;FMTTYPE=image/jpeg:https://benoviawinery.com/wp-content/uploads/2024/03/Benovia-Fireplace-Straight-On-1200x871-1.jpeg
ORGANIZER;CN="Benovia Winery":MAILTO:events@benovia.com
END:VEVENT
BEGIN:VEVENT
DTSTART;TZID=America/Chicago:20250424T173000
DTEND;TZID=America/Chicago:20250424T193000
DTSTAMP:20260424T030044
CREATED:20250224T211759Z
LAST-MODIFIED:20250305T194729Z
UID:10166-1745515800-1745523000@benoviawinery.com
SUMMARY:Houston Spring Open House 2025
DESCRIPTION:Join us for an exclusive evening of fine wine and great company as we bring the spirit of Benovia Winery to Houston! Hosted by Michael & Jennifer Dellinger\, this special gathering will feature a curated selection of our handcrafted Pinot Noir and Chardonnay\, perfectly paired with delicious bites. \nMingle with fellow wine lovers\, sip on your favorite Benovia vintages\, and enjoy an intimate evening celebrating the best of Sonoma winemaking—right here in Texas! Presented by Benovia Winery Founder Joe Anderson\, Tasting Room Manager Megan Koolmees\, Wine Educator Roger Carrillo\, and Associate Winemaker Adolfo Hernandez.
URL:https://benoviawinery.com/event/houston-spring-open-house-2025/
LOCATION:Houston TX
ATTACH;FMTTYPE=image/png:https://benoviawinery.com/wp-content/uploads/2025/02/Michael-Jennifer-Dellinger-2048x2048-1.png
ORGANIZER;CN="Benovia Winery":MAILTO:events@benovia.com
END:VEVENT
BEGIN:VEVENT
DTSTART;TZID=America/Chicago:20250427T143000
DTEND;TZID=America/Chicago:20250427T163000
DTSTAMP:20260424T030044
CREATED:20250305T194534Z
LAST-MODIFIED:20250305T203410Z
UID:10176-1745764200-1745771400@benoviawinery.com
SUMMARY:Dallas Spring Open House 2025
DESCRIPTION:Join us at Culinary Dropout for an afternoon of wine and food hosted by Benovia Winery Tasting Room Manager Megan Koolmees and Wine Educator Roger Carrillo. Indulge in the flawless harmony of Benovia wines complemented by delicious hors d’oeuvres provided by Culinary Dropout. You don’t want to miss this intimate experience! \nRaise your glass to friends coming together! Located in the Design District\, Culinary Dropout breaks all the rules with its uniform-free staff and relaxed ambiance\, serving up classics in an unbeatable manner. \n$45 for guests/Complimentary for Wine Club Members
URL:https://benoviawinery.com/event/dallas-spring-open-house-2025/
LOCATION:Dallas Texas\, 150 Turtle Creek Blvd\, Dallas\, TX\, 75207\, United States
ATTACH;FMTTYPE=image/jpeg:https://benoviawinery.com/wp-content/uploads/2025/03/Culinary-Dropout.jpg
ORGANIZER;CN="Benovia Winery":MAILTO:events@benovia.com
END:VEVENT
END:VCALENDAR